BEGIN:VCALENDAR
VERSION:2.0
PRODID:-//eventon.com NONSGML v1.0//EN
CALSCALE:GREGORIAN
METHOD:PUBLISH
BEGIN:VEVENT
UID:69e7114bc742b
DTSTAMP:20260421T055523Z
DTSTART:20261017T180000Z
DTEND:20261017T230000Z
LOCATION:Im Füxträff Alte Staatsstrasse 15\,  CH-8877 Murg
SUMMARY:„Chilbi“ Im Fuxträff
DESCRIPTION:17.10.26 „Chilbi“ Im Fuxträff Alte Staatsstrasse 15 CH-887
 7 Murg Beginn 18.00 Uhr\nhttps://www.ct-music.at/events/chilbi-im-fuxtraeff
 /
URL:https://www.ct-music.at/events/chilbi-im-fuxtraeff/
END:VEVENT
END:VCALENDAR