BEGIN:VCALENDAR
VERSION:2.0
PRODID:-//eventon.com NONSGML v1.0//EN
CALSCALE:GREGORIAN
METHOD:PUBLISH
BEGIN:VEVENT
UID:69e7114c0e567
DTSTAMP:20260421T055524Z
DTSTART:20260607T110000Z
DTEND:20260607T150000Z
LOCATION:Schulzentrum Türggenau Rheinhofstrasse 1\,  CH 9465 Sennwald
SUMMARY:Frühschoppen im Festzelt beim Schulzentrum Türggenau
DESCRIPTION:07.06.26 Frühschoppen im Festzelt beim Schulzentrum Türggenau
  Rheinhofstrasse 1 CH 9465 Sennwald Beginn 11.00 Uhr\nhttps://www.ct-music.
 at/events/fruehschoppen-im-festzelt-beim-schulzentrum-tuerggenau/
URL:https://www.ct-music.at/events/fruehschoppen-im-festzelt-beim-schulzentrum-tuerggenau/
END:VEVENT
END:VCALENDAR