BEGIN:VCALENDAR
VERSION:2.0
PRODID:-//eventon.com NONSGML v1.0//EN
CALSCALE:GREGORIAN
METHOD:PUBLISH
BEGIN:VEVENT
UID:69e710e1f3af7
DTSTAMP:20260421T055337Z
DTSTART:20260606T160000Z
DTEND:20260606T220000Z
LOCATION:Schulzentrum Türggenau Rheinhofstrasse 1\,  CH 9465 Sennwald
SUMMARY:„Chilbi“ im Festzelt beim Schulzentrum Türggenau
DESCRIPTION:06.06.26 „Chilbi“ im Festzelt beim Schulzentrum Türggenau 
 Rheinhofstrasse 1 CH 9465 Sennwald Beginn 16.00 Uhr\nhttps://www.ct-music.a
 t/events/chilbi-im-festzelt-beim-schulzentrum-tuerggenau/
URL:https://www.ct-music.at/events/chilbi-im-festzelt-beim-schulzentrum-tuerggenau/
END:VEVENT
END:VCALENDAR