BEGIN:VCALENDAR
VERSION:2.0
PRODID:-//eventon.com NONSGML v1.0//EN
CALSCALE:GREGORIAN
METHOD:PUBLISH
BEGIN:VEVENT
UID:69e773072b878
DTSTAMP:20260421T125223Z
DTSTART:20250621T200000Z
DTEND:20250621T230000Z
LOCATION:FC Flums Sportplatzstraße 18\,  CH 8890 Flums
SUMMARY:Grümpelturnier Afterparty beim FC Flums
DESCRIPTION:21.06.2025 CH 8890 Flums\,  Grümpelturnier Afterparty FC Flums
 \,  www.fcflums.ch\,  Sportplatzstrasse 18\,  Beginn 20 Uhr\,  Eintritt fre
 i\nhttps://www.ct-music.at/events/gruempelturnier-afterparty-beim-fc-flums/
URL:https://www.ct-music.at/events/gruempelturnier-afterparty-beim-fc-flums/
END:VEVENT
END:VCALENDAR