BEGIN:VCALENDAR
VERSION:2.0
PRODID:-//eventon.com NONSGML v1.0//EN
CALSCALE:GREGORIAN
METHOD:PUBLISH
BEGIN:VEVENT
UID:69e751ee28ca6
DTSTAMP:20260421T103110Z
DTSTART:20250411T203000Z
DTEND:20250411T233000Z
LOCATION:Siglu\,  Hotel 4 Jahrestzeiten\,  St. Leonhard im Pitztal Mandarfen 73 A-6481 St. Leonhard
SUMMARY:Party in der Siglu Bar
DESCRIPTION:11.04.2025 Siglu-Bar\,  Mandarfen 73\,  6481 Plangeroß\,  Pitz
 tal (A)\,  Beginn 20.30 Uhr\, \nhttps://www.ct-music.at/events/party-in-der
 -siglu-bar-63/
URL:https://www.ct-music.at/events/party-in-der-siglu-bar-63/
END:VEVENT
END:VCALENDAR