BEGIN:VCALENDAR
VERSION:2.0
PRODID:-//eventon.com NONSGML v1.0//EN
CALSCALE:GREGORIAN
METHOD:PUBLISH
BEGIN:VEVENT
UID:69e73db856fc3
DTSTAMP:20260421T090456Z
DTSTART:20250704T200000Z
DTEND:20250704T230000Z
LOCATION:Festzelt des TV Weilstetten Lindenstrasse 24\,  72336 Balingen-Weilstetten
SUMMARY:Festzelt des TV Weilstetten
DESCRIPTION:04.07.25 D 72336 Balingen-Weilstetten\,  Festzelt des TV Weilst
 etten\,  Lindenstrasse 24\,  Beginn 20.00 Uhr\,  www.tv-weilstetten.de\nhtt
 ps://www.ct-music.at/events/festzelt-des-tv-weilstetten-2/
URL:https://www.ct-music.at/events/festzelt-des-tv-weilstetten-2/
END:VEVENT
END:VCALENDAR