BEGIN:VCALENDAR
VERSION:2.0
PRODID:-//eventon.com NONSGML v1.0//EN
CALSCALE:GREGORIAN
METHOD:PUBLISH
BEGIN:VEVENT
UID:69e754adb6e73
DTSTAMP:20260421T104253Z
DTSTART:20251023T000000Z
DTEND:20251023T000000Z
LOCATION:Hotel Montfort Galuragasse 7\,  6800 Feldkirch
SUMMARY:Wandertage 2025 "Dahoam is Dahaom" - Donnerstag
DESCRIPTION:Wandertage 2025 „Dahoam is Dahoam“ 23.10. – 26.10.2025 Me
 ine Heimatstadt Feldkirch bietet so viele herrliche Möglichkeiten um gesel
 lige\,  erholsame Tage zu verbringen\,  dass ich mich dazu entschlossen hab
 e\,  meine Wandertage ein zweites Mal dort zu verbringen. Es ist mir ein An
 liegen\,  euch diese Perle der Alpen näher zu bringen. Meine[..]\nhttps://
 www.ct-music.at/events/wandertage-2025-dahoam-is-dahaom-donnerstag/
URL:https://www.ct-music.at/events/wandertage-2025-dahoam-is-dahaom-donnerstag/
END:VEVENT
END:VCALENDAR