BEGIN:VCALENDAR
VERSION:2.0
PRODID:-//eventon.com NONSGML v1.0//EN
CALSCALE:GREGORIAN
METHOD:PUBLISH
BEGIN:VEVENT
UID:69e5e357e9b77
DTSTAMP:20260420T082703Z
DTSTART:20251018T200000Z
DTEND:20251018T230000Z
LOCATION:Gasthof Krone Bruderschaftsstrasse 55\,  72415 Grosselfingen
SUMMARY:Konzert mit Christian Torchiani und musikalischen Überraschungsgästen im Hochzeitssaal Krone
DESCRIPTION:18.10.2025  D 72415 Grosselfingen\,  Hochzeitssaal Krone Konze
 rt mit Christian Torchiani und musikalischen Überraschungsgästen Beginn 2
 0.00 Uhr\,  Einlass ab 18.00 Uhr Eintritt € 15\, — Reservationen unter 
 +49 173 9476752 http://www.hochzeitssaal-krone.de\nhttps://www.ct-music.at/
 events/konzert-mit-christian-torchiani-und-musikalischen-ueberraschungsgaes
 ten-im-hochzeitssaal-krone/
URL:https://www.ct-music.at/events/konzert-mit-christian-torchiani-und-musikalischen-ueberraschungsgaesten-im-hochzeitssaal-krone/
END:VEVENT
END:VCALENDAR