BEGIN:VCALENDAR
VERSION:2.0
PRODID:-//eventon.com NONSGML v1.0//EN
CALSCALE:GREGORIAN
METHOD:PUBLISH
BEGIN:VEVENT
UID:69e73d86d2e43
DTSTAMP:20260421T090406Z
DTSTART:20251011T153000Z
DTEND:20251011T203000Z
LOCATION:Bürgerhaus - Ilshofen-Eckartshausen Ilshofener Str. 20/1
SUMMARY:„Senza Confini - Das Konzert ohne Grenzen“ mit musikalischen Gästen
DESCRIPTION:11.10.2025 D 74532 Ilshofen-Eckartshausen\,  Bürgerhaus\,  Il
 shofener Str. 20/1\,  „Senza Confini &#8211; Das Konzert ohne Grenzen“ 
 mit musikalischen Gästen  15.30 &#8211; 20.30 Uhr (Einlass ab 14.30 Uhr) 
 https://www.primeros-crailsheim.com/senza-confini-inklusionskonzerte/\nhttp
 s://www.ct-music.at/events/senza-confini-das-konzert-ohne-grenzen-mit-musik
 alischen-gaesten/
URL:https://www.ct-music.at/events/senza-confini-das-konzert-ohne-grenzen-mit-musikalischen-gaesten/
END:VEVENT
END:VCALENDAR