BEGIN:VCALENDAR
VERSION:2.0
PRODID:-//eventon.com NONSGML v1.0//EN
CALSCALE:GREGORIAN
METHOD:PUBLISH
BEGIN:VEVENT
UID:69e4e84d76b6c
DTSTAMP:20260419T143557Z
DTSTART:20250815T130000Z
DTEND:20250815T210000Z
LOCATION:Dorfplatz Gältür Dorfplatz Galtür
SUMMARY:Fest der Schützenkompanie Galtür am Dorffestplatz
DESCRIPTION:15.08.25\,  A 6563 Galtür\,  Fest der Schützenkompanie Galtü
 r am Dorffestplatz\,  ab 13.00 Uhr\nhttps://www.ct-music.at/events/fest-der
 -schuetzenkompanie-galtuer-am-dorffestplatz/
URL:https://www.ct-music.at/events/fest-der-schuetzenkompanie-galtuer-am-dorffestplatz/
END:VEVENT
END:VCALENDAR