BEGIN:VCALENDAR
VERSION:2.0
PRODID:-//eventon.com NONSGML v1.0//EN
CALSCALE:GREGORIAN
METHOD:PUBLISH
BEGIN:VEVENT
UID:69e73e4ca5429
DTSTAMP:20260421T090724Z
DTSTART:20240920T203000Z
DTEND:20240920T233000Z
LOCATION:Siglu\,  Hotel 4 Jahrestzeiten\,  St. Leonhard im Pitztal Mandarfen 73 A-6481 St. Leonhard
SUMMARY:Party in der Siglu Bar
DESCRIPTION:20.09.2024 &#8211;  Siglu-Bar\,  Mandarfen 73\,  6481 Plangero
 ß\,  Pitztal (A)\,  Beginn 20.30 Uhr\, \nhttps://www.ct-music.at/events/pa
 rty-in-der-siglu-bar-51/
URL:https://www.ct-music.at/events/party-in-der-siglu-bar-51/
END:VEVENT
END:VCALENDAR