BEGIN:VCALENDAR
VERSION:2.0
PRODID:-//eventon.com NONSGML v1.0//EN
CALSCALE:GREGORIAN
METHOD:PUBLISH
BEGIN:VEVENT
UID:69eb3ae51beee
DTSTAMP:20260424T094157Z
DTSTART:20240904T180000Z
DTEND:20240904T230000Z
LOCATION:Restaurant Brandenberg\,  Allmendstrasse 3\,  CH 6300 Zug
SUMMARY:Stierenmarkt“ im Restaurant Brandenberg
DESCRIPTION:04.09.2024 „Stierenmarkt“\,  Restaurant Brandenberg\,  CH 6
 300 Zug\,  Allmendstrasse 3\,  ab 18.00 Uhr\, \,  https://www.brandenberg.c
 h/\nhttps://www.ct-music.at/events/stierenmarkt-im-restaurant-brandenberg/
URL:https://www.ct-music.at/events/stierenmarkt-im-restaurant-brandenberg/
END:VEVENT
END:VCALENDAR