BEGIN:VCALENDAR
VERSION:2.0
PRODID:-//eventon.com NONSGML v1.0//EN
CALSCALE:GREGORIAN
METHOD:PUBLISH
BEGIN:VEVENT
UID:69e7518a00de3
DTSTAMP:20260421T102930Z
DTSTART:20240624T180000Z
DTEND:20240624T230000Z
LOCATION:Wirtshaus zum Stern Frastanzer Straße
SUMMARY:Dämmerschoppen im „Wirtshaus zum Stern“
DESCRIPTION:24.06.24 Dämmerschoppen ab 18.00 im „Wirtshaus zum Stern“\
 ,  Frastanzer Strasse 4\,  6822 Satteins (Österreich)\,  https://www.wirts
 haus-stern.at\,  (nur bei guter Witterung)\nhttps://www.ct-music.at/events/
 daemmerschoppen-im-wirtshaus-zum-stern-3/
URL:https://www.ct-music.at/events/daemmerschoppen-im-wirtshaus-zum-stern-3/
END:VEVENT
END:VCALENDAR