BEGIN:VCALENDAR
VERSION:2.0
PRODID:-//eventon.com NONSGML v1.0//EN
CALSCALE:GREGORIAN
METHOD:PUBLISH
BEGIN:VEVENT
UID:69e73a72c0052
DTSTAMP:20260421T085058Z
DTSTART:20240816T203000Z
DTEND:20240816T233000Z
LOCATION:Siglu\,  Hotel 4 Jahrestzeiten\,  St. Leonhard im Pitztal Mandarfen 73 A-6481 St. Leonhard
SUMMARY:Party in der Siglu Bar
DESCRIPTION:16.08.2024 Siglu-Bar\,  Mandarfen 73\,  6481 Plangeroß\,  Pitz
 tal (A)\,  Beginn 20.30 Uhr\, \nhttps://www.ct-music.at/events/party-in-der
 -siglu-bar-48/
URL:https://www.ct-music.at/events/party-in-der-siglu-bar-48/
END:VEVENT
END:VCALENDAR