BEGIN:VCALENDAR
VERSION:2.0
PRODID:-//eventon.com NONSGML v1.0//EN
CALSCALE:GREGORIAN
METHOD:PUBLISH
BEGIN:VEVENT
UID:69eb3a228030f
DTSTAMP:20260424T093842Z
DTSTART:20240721T113000Z
DTEND:20240721T160000Z
LOCATION:Zur alten Ziegelei Burgholzstrasse 45\,  D 70376 Stuttgart
SUMMARY:Sommerfest in der Gaststätte „Zur alten Ziegelei“ in Stuttgart
DESCRIPTION:21.07.2024 Sommerfest\,  „Zur alten Ziegelei“\,  Burgholzst
 rasse 45 \,  D 70376 Stuttgart\,  Beginn 11.30 Uhr\,  Tel. +49 711 542400\n
 https://www.ct-music.at/events/sommerfest-in-der-gaststaette-zur-alten-zieg
 elei-in-stuttgart/
URL:https://www.ct-music.at/events/sommerfest-in-der-gaststaette-zur-alten-ziegelei-in-stuttgart/
END:VEVENT
END:VCALENDAR