BEGIN:VCALENDAR
VERSION:2.0
PRODID:-//eventon.com NONSGML v1.0//EN
CALSCALE:GREGORIAN
METHOD:PUBLISH
BEGIN:VEVENT
UID:69e5e13a10338
DTSTAMP:20260420T081802Z
DTSTART:20241109T193000Z
DTEND:20241109T230000Z
LOCATION:Gasthof Ismair Gasthof Ismair  Schloßangerstr. 2 D-84164 Thürnthenning
SUMMARY:„Herbstparty“  im Gasthof Ismair
DESCRIPTION:09.11.2024 „Herbstparty“  im Gasthof Ismair\,  Gemeinschaf
 tskonzert mit Stefan Dietl und seinen Aufdrehern\,  D 84164 Thürnthenning\
 ,  Beginn um 19:30 Uhr\,  &nbsp; Special Guest: Romy Dadlhuber Vorverkauf u
 nd Reservierung unter: gabriele.stadler@gmx.net oder Tel: +49 175 5537027\n
 https://www.ct-music.at/events/herbstparty-im-gasthof-ismair-2/
URL:https://www.ct-music.at/events/herbstparty-im-gasthof-ismair-2/
END:VEVENT
END:VCALENDAR