BEGIN:VCALENDAR
VERSION:2.0
PRODID:-//eventon.com NONSGML v1.0//EN
CALSCALE:GREGORIAN
METHOD:PUBLISH
BEGIN:VEVENT
UID:69e73de1112f7
DTSTAMP:20260421T090537Z
DTSTART:20241006T180000Z
DTEND:20241006T210000Z
LOCATION:
SUMMARY:Winzerfest Döttingen
DESCRIPTION:06.10.24 „Winzerfest Döttingen“\,  CH 5312 Döttingen\,  Z
 elt beim Strassenfest\,  Beginn 20.00 Uhr\,  Infos www.winzerfest.ch\nhttps
 ://www.ct-music.at/events/winzerfest-doettingen-5/
URL:https://www.ct-music.at/events/winzerfest-doettingen-5/
END:VEVENT
END:VCALENDAR