BEGIN:VCALENDAR
VERSION:2.0
PRODID:-//eventon.com NONSGML v1.0//EN
CALSCALE:GREGORIAN
METHOD:PUBLISH
BEGIN:VEVENT
UID:69e73df16900c
DTSTAMP:20260421T090553Z
DTSTART:20240906T160000Z
DTEND:20240906T213000Z
LOCATION:Restaurant Bahnhof Hauptstrasse 73\,  CH 5326 Schwaderloch
SUMMARY:Festzelt beim Restaurant Bahnhof
DESCRIPTION:06.09.2024 Festzelt beim Restaurant Bahnhof\,  Hauptstrasse 73\
 ,  CH 5326 Schwaderloch\,  Beginn ab 18.00 Uhr\,   Infos und Reservation u
 nter +41 56 247 13 10\,  https://bahnhof-schwaderloch.ch\nhttps://www.ct-m
 usic.at/events/festzelt-beim-restaurant-bahnhof/
URL:https://www.ct-music.at/events/festzelt-beim-restaurant-bahnhof/
END:VEVENT
END:VCALENDAR