BEGIN:VCALENDAR
VERSION:2.0
PRODID:-//eventon.com NONSGML v1.0//EN
CALSCALE:GREGORIAN
METHOD:PUBLISH
BEGIN:VEVENT
UID:69e73a9cdbb2b
DTSTAMP:20260421T085140Z
DTSTART:20241019T123000Z
DTEND:20241019T183000Z
LOCATION:Bürgerhaus - Ilshofen-Eckartshausen Ilshofener Str. 20/1
SUMMARY:Senza Confini - Das Konzert ohne Grenzen
DESCRIPTION:19.10.2023 D 74532 Ilshofen-Eckartshausen\,  Bürgerhaus\,  I
 lshofener Str. 20/1\,   „Senza Confini &#8211; Das Konzert ohne Grenzen
 “ mit Pascal Silva und dem Duo Sunflower 15.30 &#8211; 20.30 Uhr (Einlass
  ab 14.30 Uhr)\,  https://www.primeros-crailsheim.com/senza-confini-inklus
 ionskonzerte/\nhttps://www.ct-music.at/events/senza-confini-das-konzert-ohn
 e-grenzen/
URL:https://www.ct-music.at/events/senza-confini-das-konzert-ohne-grenzen/
END:VEVENT
END:VCALENDAR