BEGIN:VCALENDAR
VERSION:2.0
PRODID:-//eventon.com NONSGML v1.0//EN
CALSCALE:GREGORIAN
METHOD:PUBLISH
BEGIN:VEVENT
UID:69e4d4cb04218
DTSTAMP:20260419T131243Z
DTSTART:20240629T123000Z
DTEND:20240629T183000Z
LOCATION:Bürgerhaus - Ilshofen-Eckartshausen Ilshofener Str. 20/1
SUMMARY:Weihnacht im Juni
DESCRIPTION:29.06.23  &#8220;Weihnacht im Juni“ 15.30 &#8211; 20.30 Uhr
  (Einlass ab 14.30 Uhr) Bürgerhaus\,  Ilshofener Str. 20/1\,  74532 Ilshof
 en-Eckartshausen\,  Vorverkauf: Primeros e.V. Almarstr. 8\,  74532 Ilshofe
 n Tel. 07904/94 33 163; Fax 07904/94 33 165 Lorewahlprimeros@hotmail.de www
 .primeros-crailsheim.com\nhttps://www.ct-music.at/events/weihnacht-im-juni-
 2/
URL:https://www.ct-music.at/events/weihnacht-im-juni-2/
END:VEVENT
END:VCALENDAR