BEGIN:VCALENDAR
VERSION:2.0
PRODID:-//eventon.com NONSGML v1.0//EN
CALSCALE:GREGORIAN
METHOD:PUBLISH
BEGIN:VEVENT
UID:69e5e35d2c252
DTSTAMP:20260420T082709Z
DTSTART:20230804T183000Z
DTEND:20230804T215900Z
LOCATION:Siglu\,  Hotel 4 Jahrestzeiten\,  St. Leonhard im Pitztal Mandarfen 73 A-6481 St. Leonhard
SUMMARY:"Party in der Siglu Bar"
DESCRIPTION:Siglu-Bar\,  Mandarfen 73\,  6481 Plangeroß\,  Pitztal (A)\,  
 Beginn 20.30 Uhr\nhttps://www.ct-music.at/events/party-in-der-siglu-bar-32/
URL:https://www.ct-music.at/events/party-in-der-siglu-bar-32/
END:VEVENT
END:VCALENDAR