BEGIN:VCALENDAR
VERSION:2.0
PRODID:-//eventon.com NONSGML v1.0//EN
CALSCALE:GREGORIAN
METHOD:PUBLISH
BEGIN:VEVENT
UID:69e73b0227bdb
DTSTAMP:20260421T085322Z
DTSTART:20230617T180000Z
DTEND:20230617T180000Z
LOCATION:Restaurant Furgglis Furgglis 125\,  Tschiertschen\,  Schweiz
SUMMARY: Restaurant Furgglis - Party im Zelt
DESCRIPTION:17.03.23 CH 7064 Tschiertschen\,  Restaurant Furgglis\,  Furgg
 lis 125\,  ab 20.00 Uhr „Party im Zelt“\,  www.furgglis.info\nhttps://
 www.ct-music.at/events/restaurant-furgglis-party-im-zelt/
URL:https://www.ct-music.at/events/restaurant-furgglis-party-im-zelt/
END:VEVENT
END:VCALENDAR