BEGIN:VCALENDAR
VERSION:2.0
PRODID:-//eventon.com NONSGML v1.0//EN
CALSCALE:GREGORIAN
METHOD:PUBLISH
BEGIN:VEVENT
UID:69e51a9c4516f
DTSTAMP:20260419T181036Z
DTSTART:20220616T160000Z
DTEND:20220616T160000Z
LOCATION:Wirtshaus zum Stern Frastanzer Straße
SUMMARY:Dämmerschoppen im „Wirtshaus zum Stern“
DESCRIPTION:16.06.22 Dämmerschoppen ab 18.00 im „Wirtshaus zum Stern“\
 ,  Frastanzer Strasse 4\,  6822 Satteins (Österreich)\,  ab 18.00 Uhr (nur
  bei guter Witterung!)\,  https://www.wirtshaus-stern.at\, \nhttps://www.ct
 -music.at/events/daemmerschoppen-im-wirtshaus-zum-stern/
URL:https://www.ct-music.at/events/daemmerschoppen-im-wirtshaus-zum-stern/
END:VEVENT
END:VCALENDAR