BEGIN:VCALENDAR
VERSION:2.0
PRODID:-//eventon.com NONSGML v1.0//EN
CALSCALE:GREGORIAN
METHOD:PUBLISH
BEGIN:VEVENT
UID:69e5e34a31496
DTSTAMP:20260420T082650Z
DTSTART:20221002T160000Z
DTEND:20221002T210000Z
LOCATION:Festplatz in CH 5312 Döttingen Festplatz\,  CH 5312 Döttingen
SUMMARY:Winzerfest Döttingen
DESCRIPTION:02.10.22 „Winzerfest Döttingen“\,  CH 5312 Döttingen\,  Z
 elt beim Strassenfest\,  Beginn 18.00 Uhr\,  Infos www.winzerfest.ch &nbsp
 ;\nhttps://www.ct-music.at/events/winzerfest-doettingen/
URL:https://www.ct-music.at/events/winzerfest-doettingen/
END:VEVENT
END:VCALENDAR