BEGIN:VCALENDAR
VERSION:2.0
PRODID:-//eventon.com NONSGML v1.0//EN
CALSCALE:GREGORIAN
METHOD:PUBLISH
BEGIN:VEVENT
UID:69e4d4f04360f
DTSTAMP:20260419T131320Z
DTSTART:20230128T153000Z
DTEND:20230128T213000Z
LOCATION:Kultur und Eventsaal Restaurant Rössli Dorfstrasse 18\,  3661 Uetendorf\,  Schweiz
SUMMARY:Schlager-Stadl im Eventsaal Restaurant Rössli
DESCRIPTION:29.01.23\,  CH 3661 Uetendorf\,  Schlager-Stadl im Eventsaal Re
 staurant Rössli\,  Dorfstraße 15 &nbsp;\nhttps://www.ct-music.at/events/s
 chlager-stadl-im-eventsaal-restaurant-roessli/
URL:https://www.ct-music.at/events/schlager-stadl-im-eventsaal-restaurant-roessli/
END:VEVENT
END:VCALENDAR