BEGIN:VCALENDAR
VERSION:2.0
PRODID:-//eventon.com NONSGML v1.0//EN
CALSCALE:GREGORIAN
METHOD:PUBLISH
BEGIN:VEVENT
UID:69e7518b5e095
DTSTAMP:20260421T102931Z
DTSTART:20221007
DTEND:20221008
LOCATION:Hotel: &quot;der Klostertalerhof&quot; Hausnummer 82c\,  6754 KlÃ¶sterle am Arlberg
SUMMARY:Wandertage 2022 - â€žZurÃ¼ck zu den Wurzeln\,  zurÃ¼ck ins Klostertal!â€œ
DESCRIPTION:Umrahmt von hohen Bergen\,  inmitten einer atemberaubenden Natu
 r\,  das ist das Klostertal. Aber nicht nur die Natur und die Beschaulichke
 it haben die Gegend berÃ¼hmt gemacht\,  auch die Musik der unsterblichen â€
 žKlostertalerâ€œ hat dieses Tal weit Ã¼ber die Ã–sterreichischen Grenzen hi
 naus bekannt gemacht. Â  Christian Torchiani freut sich riesig darauf\,  se
 inen[..]\nhttps://www.ct-music.at/events/wandertage-2022-zurueck-zu-den-wur
 zeln-zurueck-ins-klostertal-2/
URL:https://www.ct-music.at/events/wandertage-2022-zurueck-zu-den-wurzeln-zurueck-ins-klostertal-2/
END:VEVENT
END:VCALENDAR