BEGIN:VCALENDAR
VERSION:2.0
PRODID:-//eventon.com NONSGML v1.0//EN
CALSCALE:GREGORIAN
METHOD:PUBLISH
BEGIN:VEVENT
UID:69e7519b895a8
DTSTAMP:20260421T102947Z
DTSTART:20221210T170000Z
DTEND:20221210T220000Z
LOCATION:Musikarena Wydehof CH 5342 Birr\,  Wyde 1
SUMMARY:Musikarena Wydehof „Chlausen-Party“
DESCRIPTION:10.12.22 Musikarena Wydehof „Chlausen-Party“\,  CH 5242 Bir
 r\,  Wyde 1\,  Einlass ab 18.00 Uhr\,  Reservation: praesident@herzen-der-m
 usik.ch\nhttps://www.ct-music.at/events/musikarena-wydehof-chlausen-party/
URL:https://www.ct-music.at/events/musikarena-wydehof-chlausen-party/
END:VEVENT
END:VCALENDAR