BEGIN:VCALENDAR
VERSION:2.0
PRODID:-//eventon.com NONSGML v1.0//EN
CALSCALE:GREGORIAN
METHOD:PUBLISH
BEGIN:VEVENT
UID:69e73df96cb95
DTSTAMP:20260421T090601Z
DTSTART:20220219T200000Z
DTEND:20220219T235900Z
LOCATION:
SUMMARY:Hotel Post - Sargans - „Schnitzelbankabend“
DESCRIPTION:19.02.22 Hotel Post CH 7320 Sarganzs Bahnhofstrasse 1 „Schnit
 zelbankabend“ mit Tanz ab 20.00 Uhr Reservierung:martina.john@rsnweb.ch\n
 https://www.ct-music.at/events/hotel-post-sarganzs-schnitzelbankabend/
URL:https://www.ct-music.at/events/hotel-post-sarganzs-schnitzelbankabend/
END:VEVENT
END:VCALENDAR