BEGIN:VCALENDAR
VERSION:2.0
PRODID:-//eventon.com NONSGML v1.0//EN
CALSCALE:GREGORIAN
METHOD:PUBLISH
BEGIN:VEVENT
UID:69e73d8ad5380
DTSTAMP:20260421T090410Z
DTSTART:20220514T160000Z
DTEND:20220514T230000Z
LOCATION:Robert Wurmthaler Halle Haller Str. 1\,  74532 Ilshofen\,  Deutschland
SUMMARY:"Mai ist das Genial" - Roland-Wurmthaler-Halle - Ilshofen
DESCRIPTION:Mai ist das Genial  14.05.2022 D 74532 Ilshofen\,  Roland-Wurm
 thaler-Halle\,  Einlass 16.00 Uhr\nhttps://www.ct-music.at/events/roland-wu
 rmthaler-halle-ilshofen/
URL:https://www.ct-music.at/events/roland-wurmthaler-halle-ilshofen/
END:VEVENT
END:VCALENDAR