BEGIN:VCALENDAR
VERSION:2.0
PRODID:-//eventon.com NONSGML v1.0//EN
CALSCALE:GREGORIAN
METHOD:PUBLISH
BEGIN:VEVENT
UID:69e752df11171
DTSTAMP:20260421T103511Z
DTSTART:20220827T200000Z
DTEND:20220827T235900Z
LOCATION:
SUMMARY:Gemeinschaftskonzert mit „Geri der Klostertaler“
DESCRIPTION:D 56457 Sainscheid\,  Festzelt beim alten Bahnhof\,  Gemeinscha
 ftskonzert mit „Geri der Klostertaler“\,  Beginn 20.00 Uhr\,  Eintritt:
  Vorverkauf € 18\, —\,  Abendkasse € 20\, —\,  Tickets unter +49 17
 1 2360462 oder +49 175 5486743\nhttps://www.ct-music.at/events/gemeinschaft
 skonzert-mit-geri-der-klostertaler/
URL:https://www.ct-music.at/events/gemeinschaftskonzert-mit-geri-der-klostertaler/
END:VEVENT
END:VCALENDAR