BEGIN:VCALENDAR
VERSION:2.0
PRODID:-//eventon.com NONSGML v1.0//EN
CALSCALE:GREGORIAN
METHOD:PUBLISH
BEGIN:VEVENT
UID:69e75a47ddf1b
DTSTAMP:20260421T110647Z
DTSTART:20211210T210000Z
DTEND:20211210T235900Z
LOCATION:Klosters Sernaus Landstraße 29
SUMMARY:Aison Opening Party in Klosters - Sernaus
DESCRIPTION:10.12.2021 CH 7252 Klosters-Serneus\,  Landstrasse 29\,  Saison
 -Opening-Party\,  ab 21.00 Uhr\,  Tel: +41 79 132 09 96.\nhttps://www.ct-m
 usic.at/events/aison-opening-party-in-klosters-sernaus/
URL:https://www.ct-music.at/events/aison-opening-party-in-klosters-sernaus/
END:VEVENT
END:VCALENDAR