BEGIN:VCALENDAR
VERSION:2.0
PRODID:-//eventon.com NONSGML v1.0//EN
CALSCALE:GREGORIAN
METHOD:PUBLISH
BEGIN:VEVENT
UID:69e7533270295
DTSTAMP:20260421T103634Z
DTSTART:20220212T150000Z
DTEND:20220212T210000Z
LOCATION:Wirtshaus zum Stern Frastanzer Straße
SUMMARY:LEIDER WEGEN COVID MASSNAHMEN ABGESAGT - Frauenkränzle im Wirtshaus zum Stern
DESCRIPTION:05.02.22 A 6822 Satteins\,  Wirtshaus zum Stern\,  Frauenkränz
 le ab 15.00 Uhr\,  https://www.wirtshaus-stern.at\nhttps://www.ct-music.at
 /events/frauenkraenzle-im-wirtshaus-zum-stern/
URL:https://www.ct-music.at/events/frauenkraenzle-im-wirtshaus-zum-stern/
END:VEVENT
END:VCALENDAR