BEGIN:VCALENDAR
VERSION:2.0
PRODID:-//eventon.com NONSGML v1.0//EN
CALSCALE:GREGORIAN
METHOD:PUBLISH
BEGIN:VEVENT
UID:69e73dfd6ac71
DTSTAMP:20260421T090605Z
DTSTART:20211105T210000Z
DTEND:20211105T235900Z
LOCATION:Siglu\,  Hotel 4 Jahrestzeiten\,  St. Leonhard im Pitztal Mandarfen 73 A-6481 St. Leonhard
SUMMARY:„Herbstparty“ in der Siglu-Bar
DESCRIPTION:05.11.21 „Herbstparty“ Siglu-Bar Mandarfen 73\,  6481 Plang
 eroß\,  Pitztal\,  Österreich\,  Beginn 21.00 Uhr\nhttps://www.ct-music.a
 t/events/herbstparty-in-der-siglu-bar-2/
URL:https://www.ct-music.at/events/herbstparty-in-der-siglu-bar-2/
END:VEVENT
END:VCALENDAR