BEGIN:VCALENDAR
VERSION:2.0
PRODID:-//eventon.com NONSGML v1.0//EN
CALSCALE:GREGORIAN
METHOD:PUBLISH
BEGIN:VEVENT
UID:69e5e301a965b
DTSTAMP:20260420T082537Z
DTSTART:20201009T200000Z
DTEND:20201009T235900Z
LOCATION:Looping Bar Hauptstrasse 100\,  9422 Thal\,  Schweiz
SUMMARY:09.10.20 12.09.20 Olmafeeling in der Looping Bar
DESCRIPTION:09.10.20 12.09.20 Olmafeeling in der Looping Bar (https://www.l
 ooping100.ch) in Hauptstrasse 100\,  9422 Thal\,  Schweiz. Das spezielle Fe
 eling der Olma St. Gallen\,  komprimiert in der wahrscheinlich besten Bar d
 er Schweiz!\nhttps://www.ct-music.at/events/09-10-20-12-09-20-olmafeeling-i
 n-der-looping-bar/
URL:https://www.ct-music.at/events/09-10-20-12-09-20-olmafeeling-in-der-looping-bar/
END:VEVENT
END:VCALENDAR