BEGIN:VCALENDAR
VERSION:2.0
PRODID:-//eventon.com NONSGML v1.0//EN
CALSCALE:GREGORIAN
METHOD:PUBLISH
BEGIN:VEVENT
UID:69e60d82af764
DTSTAMP:20260420T112658Z
DTSTART:20200413T130000Z
DTEND:20200413T190000Z
LOCATION:Hotel &quot;die Post&quot; Andechsstraße 1\,  82211 Herrsching am Ammersee\,  Deutschland
SUMMARY:Konzert auf der Sonnenterasse
DESCRIPTION:13.04.2020\,  Hotel die Post\,  D 82211 Herrsching am Ammersee\
 ,  ab 13.00 Uhr\,  Konzert auf der Sonnenterrasse\, \nhttps://www.ct-music.
 at/events/konzert-auf-der-sonneterasse/
URL:https://www.ct-music.at/events/konzert-auf-der-sonneterasse/
END:VEVENT
END:VCALENDAR