BEGIN:VCALENDAR
VERSION:2.0
PRODID:-//eventon.com NONSGML v1.0//EN
CALSCALE:GREGORIAN
METHOD:PUBLISH
BEGIN:VEVENT
UID:69e73af2439fb
DTSTAMP:20260421T085306Z
DTSTART:20200305T190000Z
DTEND:20200305T230000Z
LOCATION:&quot;Zwielicht&quot; Montafon Phanges 89c
SUMMARY:Chris im Zwielicht Montafon
DESCRIPTION:Ab 19 Uhr im Restaurant Zwielicht.\nhttps://www.ct-music.at/eve
 nts/chris-im-zwielicht-montafon-3/
URL:https://www.ct-music.at/events/chris-im-zwielicht-montafon-3/
END:VEVENT
END:VCALENDAR