BEGIN:VCALENDAR
VERSION:2.0
PRODID:-//eventon.com NONSGML v1.0//EN
CALSCALE:GREGORIAN
METHOD:PUBLISH
BEGIN:VEVENT
UID:69e73ad92d774
DTSTAMP:20260421T085241Z
DTSTART:20200417T200000Z
DTEND:20200417T235900Z
LOCATION:
SUMMARY:Turnunterhaltung des STV Sax
DESCRIPTION:17.04.2020 Turnunterhaltung des STV Sax\,  Schulhaus in 9468 Sa
 x (Schweiz)\,  Gaditsch 15\,  ab 20.00 Uhr\,  info und Reservierung unter 
 ph.bernegger@hotmail.com\nhttps://www.ct-music.at/events/turnunterhaltung-d
 es-stv-sax/
URL:https://www.ct-music.at/events/turnunterhaltung-des-stv-sax/
END:VEVENT
END:VCALENDAR