BEGIN:VCALENDAR
VERSION:2.0
PRODID:-//eventon.com NONSGML v1.0//EN
CALSCALE:GREGORIAN
METHOD:PUBLISH
BEGIN:VEVENT
UID:69e751950f343
DTSTAMP:20260421T102941Z
DTSTART:20191231T210000Z
DTEND:20191231T235900Z
LOCATION:Hotel Auhof  Hotel Auhof\,  5611 Großarl (Österreich)\,  Unterbergstrasse 70
SUMMARY:Hotel Aufhof\,  Großarl
DESCRIPTION:31.12.2019 Hotel Auhof\,  5611 Großarl (Österreich)\,  Unterb
 ergstrasse 70\,  www.auhof.com\,  Info und Reservation unter info@auhof.com
 \,  Beginn 21.00 Uhr\nhttps://www.ct-music.at/events/hotel-aufhof-grossarl/
URL:https://www.ct-music.at/events/hotel-aufhof-grossarl/
END:VEVENT
END:VCALENDAR