BEGIN:VCALENDAR
VERSION:2.0
PRODID:-//eventon.com NONSGML v1.0//EN
CALSCALE:GREGORIAN
METHOD:PUBLISH
BEGIN:VEVENT
UID:69e73d45052c9
DTSTAMP:20260421T090301Z
DTSTART:20200111T210000Z
DTEND:20200111T235900Z
LOCATION:Aula Sproochbrugg Aula Sproochbrugg\,  9527 Niederhelfenschwil
SUMMARY:Tanzabend in der Aula Sproochbrugg
DESCRIPTION:11.01.2020 Tanzabend\,  Aula Sproochbrugg\,  9527 Niederhelfens
 chwil\,  Schweiz\,  ab 21.00\,  Infos und Reservation unter www.mgn.ch\nht
 tps://www.ct-music.at/events/tanzabend-in-der-aula-sproochbrugg/
URL:https://www.ct-music.at/events/tanzabend-in-der-aula-sproochbrugg/
END:VEVENT
END:VCALENDAR