BEGIN:VCALENDAR
VERSION:2.0
PRODID:-//eventon.com NONSGML v1.0//EN
CALSCALE:GREGORIAN
METHOD:PUBLISH
BEGIN:VEVENT
UID:69e752d41958d
DTSTAMP:20260421T103500Z
DTSTART:20190821T210000Z
DTEND:20190821T230000Z
LOCATION:Siglu\,  Hotel 4 Jahrestzeiten\,  St. Leonhard im Pitztal Mandarfen 73 A-6481 St. Leonhard
SUMMARY:21. August - Party in der Siglu Bar
DESCRIPTION:21. August - Party in der Siglu Bar\nhttps://www.ct-music.at/ev
 ents/21-august-party-in-der-siglu-bar/
URL:https://www.ct-music.at/events/21-august-party-in-der-siglu-bar/
END:VEVENT
END:VCALENDAR