BEGIN:VCALENDAR
VERSION:2.0
PRODID:-//eventon.com NONSGML v1.0//EN
CALSCALE:GREGORIAN
METHOD:PUBLISH
BEGIN:VEVENT
UID:69e5f661c4668
DTSTAMP:20260420T094817Z
DTSTART:20190129T180000Z
DTEND:20190129T000000Z
LOCATION:Restaurant Valata Sand 7\,  7138 Surcuolm\,  Schweiz
SUMMARY:Restaurant Valata - Geburtstagsparty für Freddy
DESCRIPTION:29.01.2019 Restaurant Valata in CH 7138 Surcuolm\,  Geburtstags
 party für Freddy\,  von 18.00 bis 00.00 Uhr\nhttps://www.ct-music.at/event
 s/restaurant-valata-geburtstagsparty-fuer-freddy/
URL:https://www.ct-music.at/events/restaurant-valata-geburtstagsparty-fuer-freddy/
END:VEVENT
END:VCALENDAR