BEGIN:VCALENDAR
VERSION:2.0
PRODID:-//eventon.com NONSGML v1.0//EN
CALSCALE:GREGORIAN
METHOD:PUBLISH
BEGIN:VEVENT
UID:69e752da0ad44
DTSTAMP:20260421T103506Z
DTSTART:20190921T200000Z
DTEND:20190921T235900Z
LOCATION:Gasthof Ismair Gasthof Ismair  Schloßangerstr. 2 D-84164 Thürnthenning
SUMMARY:Gasthof Ismair: Gemeinschaftskonzert mit Stefan Dietl und seinen Aufdrehern
DESCRIPTION:21.09.2019 Gasthof Ismair in D 84164 Türnthenning \,  Gemeinsc
 haftskonzert mit Stefan Dietl und seinen Aufdrehern\,  ab 20.00 bis 00.00 U
 hr\,  Vorverkauf gabriele.stadler@gmx.net\,  oder Tel: +49 175 5537027\nht
 tps://www.ct-music.at/events/gasthof-ismair-gemeinschaftskonzert-mit-stefan
 -dietl-und-seinen-aufdrehern/
URL:https://www.ct-music.at/events/gasthof-ismair-gemeinschaftskonzert-mit-stefan-dietl-und-seinen-aufdrehern/
END:VEVENT
END:VCALENDAR