BEGIN:VCALENDAR
VERSION:2.0
PRODID:-//eventon.com NONSGML v1.0//EN
CALSCALE:GREGORIAN
METHOD:PUBLISH
BEGIN:VEVENT
UID:69e73e170e8ee
DTSTAMP:20260421T090631Z
DTSTART:20181217T193000Z
DTEND:20181217T220000Z
LOCATION:Burghotel Oberlech Oberlech 266 6764 Lech am Arlberg Österreich
SUMMARY:Romantischer Klavier-Abend im Haubenrestaurant Burghotel Oberlech
DESCRIPTION:Romantischer Klavier-Abend im Haubenrestaurant Burghotel Oberle
 ch\nhttps://www.ct-music.at/events/romantischer-klavier-abend-im-haubenrest
 aurant-burghotel-oberlech-2/
URL:https://www.ct-music.at/events/romantischer-klavier-abend-im-haubenrestaurant-burghotel-oberlech-2/
END:VEVENT
END:VCALENDAR