BEGIN:VCALENDAR
VERSION:2.0
PRODID:-//eventon.com NONSGML v1.0//EN
CALSCALE:GREGORIAN
METHOD:PUBLISH
BEGIN:VEVENT
UID:69eccee82c934
DTSTAMP:20260425T142544Z
DTSTART:20181011T210000Z
DTEND:20181012T010000Z
LOCATION:Siglu\,  Hotel 4 Jahrestzeiten\,  St. Leonhard im Pitztal Mandarfen 73 A-6481 St. Leonhard
SUMMARY:Party im Siglu\,  Hotel 4 Jahrestzeiten
DESCRIPTION:11.10.2018 Party im Siglu\,  Hotel Vier Jahreszeiten in 6481 St
 . Leonhard im Pitztal\,  solo\,  Beginn 21.00 bis 01.00 Uhr.\nhttps://www.c
 t-music.at/events/party-im-siglu-hotel-4-jahrestzeiten/
URL:https://www.ct-music.at/events/party-im-siglu-hotel-4-jahrestzeiten/
END:VEVENT
END:VCALENDAR